BEGIN:VCALENDAR
VERSION:2.0
PRODID:-//hacksw/handcal//NONSGML v1.0//EN
BEGIN:VEVENT
SUMMARY:SENIORS GARCONS 1 - BESANCON
UID:1c965d8b-f0e7-4196-a661-fe9e93bfa881
DTSTART:20260430T180000Z
DTEND:20260430T204500Z
LOCATION:Guimier - Complexe Marcel Bec (MEUDON) Route du Pavillon de l'Abbe 92190 Meudon
CATEGORIES:Sportif
STATUS:
URL;VALUE=URI:https://www.valdeseinebasket.fr/evenements/2026/04/30/seniors-garcons-1-besancon-2419102
END:VEVENT
END:VCALENDAR
